Workbook

Sheet Politica de Participación Socia
A1: Tipo de Registro | B1: Tipo Identificación: DE/DI/MU/NI | C1: Número de Identificación: Divipola/Nit sin dígito de verificación | D1: Inicio de vigencia: xxxx-01-01 | E1: Cierre de vigencia: xxxx-12-31 | F1: Número de filas del archivo
A2: 1 | B2: NI | C2: 900211477 | D2: 2025-0101 | E2: 46022 | F2: 48
A3: TIPO DE REGISTRO | B3: CONSECUTIVO DE REGISTRO | C3: CODIGO DEL TERRITORIO DE REFERENCIA DE APLICACION DEL PLAN DE ACCION | D3: CODIGO DE LA LINEA DE ACCION POR EJE ESTRATEGICO | E3: CONSECUTIVO DE LA META DE LA LINEA DE ACCION | F3: META DE LA LINEA DE ACCION | G3: CONSECUTIVO DE LA ACTIVIDAD DE LA META | H3: DESCRIPCION DE LA ACTIVIDAD PROGRAMADA | I3: EXPRESION NUMERICA DE LA ACTIVIDAD | J3: CODIGO DE LA POBLACION OBJETIVO | K3: FECHA DE INICIO DE LA ACTIVIDAD | L3: FECHA DE TERMINACION DE LA ACTIVIDAD | M3: RECURSOS PROGRAMADOS PARA LA ACTIVIDAD
A4: Todos los registros son tipo 2 | B4: No. Consecutivo, inicia en 1 | C4: Divipola del municipio o distrito donde se aplica este plan de acción En todas las variables comunes (resaltadas en amarillo) la información diligenciada en la programación se traslada automáticamente al archivo de seguimiento. | D4: Elegir de la lista desplegable la línea de acción a programar | E4: MXX, donde XX es el consecutivo de la meta dentro de la línea de acción. Ejemplo: M01 | F4: Texto que describe la meta a la cual se comprometen, dejando espacios en blanco entre palabras, no dejar espacio en blanco al final del texto. No utilizar coma (,) ni punto y coma(;) Mínimo 20 caracteres, máximo 300 caracteres El color naranja desaparece cuando se diligencia el campo de forma correcta: sin utilizar no aplica y con más de 20 caracteres | G4: Axx. Donde xx es el consecutivo de la actividad dentro de la meta. Ejemplo: A01 | H4: Texto que describe la actividad que se va a desarrollar, dejando espacios en blanco entre palabras, no dejar espacio en blanco al final del texto. No utilizar coma (,) ni punto y coma(;). Mínimo 20 caracteres, máximo 300 caracteres. El color naranja desaparece cuando se diligencia el campo de forma correcta: sin utilizar no aplica y con más de 20 caracteres | I4: Número de veces que se va a ejecutar la actividad El color naranja desaparece cuando el valor es mayor a cero (0) | J4: Elegir de la lista desplegable el código de poblacion a la cual se dirige la actividad. | K4: Fecha de inicio de la actividad, con formato: AAAA-MM-DD | L4: Fecha de finalización de la actividad, con formato: AAAA-MM-DD | M4: Número. Recursos económicos asignados para la ejecución de la actividad. Puede ser cero (0) o mayor o igual a 10.000
A5: 2 | B5: 1 | C5: 18094 | D5: E1La | E5: M01 | F5: GESTIONAR LOS RECURSOS FINANCIEROS NECESARIOS EN EL PRESUPUESTOS ORIENTADOS A FORTALECER LAS ESTRUCTURAS ADMINISTRATIVAS Y EL RECURSO HUMANO DEDICADO AL FOMENTO Y GESTION DE LOS PROCESOS DE PARTICIPACION Y EN EL DESARROLLO DE LA POLITICA DE PARTICIPACION SOCIAL EN SALUD | G5: A01 | H5: PRESENTAR AL AREA ADMINISTRATIVA UN PRESUPUESTO QUE PERMITA DESARROLLAR ADECUADAMENTE LOS ESPACIOS PARTICIPATIVOS QUE SE DEFINAN EN LA PPSS | I5: 1 | J5: 26 | K5: 2025-01-01 | L5: 2025-06-30 | M5: 50000
A6: 2 | B6: 2 | C6: 18094 | D6: E1La | E6: M02 | F6: DISPONER DEL RECURSO HUMANO PARA LA OPERACION DE LA POLITICA PUBLICA DE PARTICIPACION SOCIAL EN SALUD CON CAPACIDADES PARA EL FOMENTO Y LA GESTION DE LOS PROCESOS DE PARTICIPACION SOCIAL EN SALUD | G6: A02 | H6: DISPONER DE PERSONAL DE PLANTA IDONEO Y CAPACITADO PARA LA EJECUCION DE LA POLITICA PUBLICA DE PARTICIPACION SOCIAL EN SALUD | I6: 1 | J6: 26 | K6: 2025-01-01 | L6: 2025-12-31 | M6: 50000
A7: 2 | B7: 3 | C7: 18094 | D7: E1Lb | E7: M01 | F7: DEFINIR LOS PROGRAMAS DE FORMACION Y CAPACITACION AL PERSONAL DEL SECTOR SALUD QUE PERMITAN GENERAR CAPACIDADES PARA EL DERECHO A LA PARTICIPACION SOCIAL | G7: A01 | H7: CAPACITAR AL PERSONAL DE LA IPS EN TEMAS DE DERECHO A LA SALUD ATENCIÓN HUMANIZADA Y OTROS | I7: 1 | J7: 02 | K7: 2025-01-01 | L7: 2025-12-31 | M7: 50000
A8: 2 | B8: 4 | C8: 18094 | D8: E1Lh | E8: M01 | F8: INCORPORAR EL ENFOQUE DIFERENCIAL EN EL DESARROLLO DE LOS ESPACIOS DE PARTICIPACION EN SALUD EN LA DEFINICION E IMPLEMENTACION DE LOS PROGRAMAS DEL SECTOR SALUD | G8: A01 | H8: GENERAR CONTENIDOS Y PIEZAS DE COMUNICACION COMO VIDEOS INFOGRAFIAS BLOGS Y DEMAS CON ENFOQUE DIFERENCIAL USANDO LENGUAJE Y GRAFICAS INCLUYENTES CON RELACION A TEMAS DE SALUD | I8: 1 | J8: 25 | K8: 2025-01-01 | L8: 2025-12-31 | M8: 50000
A9: 2 | B9: 5 | C9: 18094 | D9: E2Lb | E9: M01 | F9: ESTABLECER LOS INCENTIVOS QUE PROPICIEN LA PARTICIPACION SOCIAL Y COMUNITARIA | G9: A01 | H9: SOLICITAR ESTRATEGIAS INSTITUCIONALES PARA LA ENTREGA DE INCENTIVOS COMO ESPACIOS DE RECONOCIMIENTO CAPACITACIONES PARTICIPACION A EVENTOS PUBLICOS PRESENTACION EN PACINA WEB REDES SOCIALES MICROSITIO EN PAGINA INSTITUCIONAL | I9: 1 | J9: 26 | K9: 2025-01-01 | L9: 2025-12-31 | M9: 50000
A10: 2 | B10: 6 | C10: 18094 | D10: E2Lb | E10: M02 | F10: GESTIONAR Y ESTABLECER LOS INCENTIVOS QUE PROPICIEN LA PARTICIPACION SOCIAL Y COMUNITARIA | G10: A02 | H10: REALIZAR RECONOCIMIENTO DURANTE ACTOS PUBLICOS CARNETIZACION MENCIONES RECONOCIMIENTOS ESCRITOS MATERIAL POPU OTROS QUE SE PUEDA PERMITIR LA ESE A MIEMBROS DE LA ASOCIACION DE USUARIOS DE LA IPS | I10: 1 | J10: 04 | K10: 2025-01-01 | L10: 2025-12-31 | M10: 50000
A11: 2 | B11: 7 | C11: 18094 | D11: E2Lc | E11: M01 | F11: IMPULSAR Y PROMOCIONAR LAS INICIATIVAS DEL USO Y APROPIACION DE LAS TECNOLOGIAS DE INFORMACION Y LAS COMUNICACIONES EN LA ASOCIACION DE USUARIOS | G11: A01 | H11: APROPIAR E INCORPORAR A LA ASOCIACION DE USUARIOS DE LA IPS SOBRE USO DE LAS TICS PARA DIFUSION DE INFORMACION EN COMPAÑIA DEL EQUIPO DE SISTEMAS Y PUBLICIDAD | I11: 1 | J11: 04 | K11: 2025-01-01 | L11: 2025-12-31 | M11: 50000
A12: 2 | B12: 8 | C12: 18094 | D12: E2Ld | E12: M01 | F12: FORTALECER LAS ESTRATEGIAS DE INFORMACION Y COMUNICACIÓN | G12: A01 | H12: ESTABLECER ESTRATEGIAS DE COMUNICACION E INFORMACION QUE INCLUYA LA APLICABILIDAD DE GENERACION DE CONTENIDO AUDIOVISUAL ABARCANDO TEMAS COMO LAS EXPERIENCIAS EXITOSAS DE LOS USUARIOS BUENAS PRACTICAS DE LOS PROFESIONALES DE SALUD Y RESPECTIVA PUBLICACIÓN EN LAS PAGINAS WEB Y DE FACEBOOK | I12: 1 | J12: 25 | K12: 2025-01-01 | L12: 2025-12-31 | M12: 50000
A13: 2 | B13: 9 | C13: 18094 | D13: E3La | E13: M01 | F13: DEFINIR E IMPLEMENTAR LAS ESTRATEGIAS DE INCIDENCIA Y FORMACION PARA FORTALECER LA SALUD PUBLICA EN CONCERTACION CON LAS COMUNIDADES | G13: A01 | H13: GENERAR ESPACIOS DE APRENDIZAJE Y CAPACITACION ORIENTADOS A PROMOVER LOS PROGRAMAS DE PYP DE LA SALUD EN LOS DIVERSOS ESPACIOS QUE PERMITE LA IPS | I13: 1 | J13: 25 | K13: 2025-01-01 | L13: 2025-12-31 | M13: 50000
A14: 2 | B14: 10 | C14: 18094 | D14: E3Lb | E14: M01 | F14: DISEÑAR UNA ESTRATEGIA DE COMUNICACION E INFORMACION PARA LA PROMOCION Y SOCIALIZACION DE UNA CULTURA DE BIENESTAR Y SALUD CON PERSPECTIVA COMUNITARIA | G14: A01 | H14: EDUCAR AL USUARIO MEDIANTE LA DIFUSION DE INFORMACION DE RELEVANCIA MEDIANTE DIVERSOS CANALES DE COMUNICACIÓN HABILITADOS EN LA ESE | I14: 4 | J14: 25 | K14: 2025-01-01 | L14: 2025-12-31 | M14: 50000
A15: 2 | B15: 11 | C15: 18094 | D15: E4Lb | E15: M01 | F15: MEJORAR EL ACCESO A LA INFORMACIÓN POR PARTE DE LA CIUDADANIA A TRAVES DE LA AMPLIACION DE CANALES DE COMUNICACION POR PARTE DE LAS INSTITUCIONES | G15: A01 | H15: GENERAR CONTENIDOS INFORMATIVOS QUE CONTENGAN LENGUAJE CLARO Y ASERTIVO QUE PERMITA LA COMPRESION DE LAS NOTICIAS INFORMES BOLETINES Y CONOCIMIENTOS EN SALUD A LA POBLACION GENERAL | I15: 1 | J15: 25 | K15: 2025-01-01 | L15: 2025-12-31 | M15: 50000
A16: 2 | B16: 12 | C16: 18094 | D16: E5Ld | E16: M01 | F16: FORTALECER LOS ESCENARIOS PARA LA PARTICIPACION EN LA DECISION | G16: A01 | H16: REALIZAR INFORMES DETALLADOS CON ANALISIS Y ACCIONES DE MEJORA A SITUACIONES REFERIDAS POR LOS USUARIOS A PARTIR DE LAS PQRS RECIBIDAS POR LOS DIFERENTES MEDIOS DE PARTICIPACION SOCIAL CON LOS QUE CUENTA LA IPS | I16: 1 | J16: 26 | K16: 2025-01-01 | L16: 2025-12-31 | M16: 50000
A17: 2 | B17: 13 | C17: 18610 | D17: E1La | E17: M01 | F17: GESTIONAR LOS RECURSOS FINANCIEROS NECESARIOS EN EL PRESUPUESTOS ORIENTADOS A FORTALECER LAS ESTRUCTURAS ADMINISTRATIVAS Y EL RECURSO HUMANO DEDICADO AL FOMENTO Y GESTION DE LOS PROCESOS DE PARTICIPACION Y EN EL DESARROLLO DE LA POLITICA DE PARTICIPACION SOCIAL EN SALUD | G17: A01 | H17: PRESENTAR AL AREA ADMINISTRATIVA UN PRESUPUESTO QUE PERMITA DESARROLLAR ADECUADAMENTE LOS ESPACIOS PARTICIPATIVOS QUE SE DEFINAN EN LA PPSS | I17: 1 | J17: 26 | K17: 2025-01-01 | L17: 2025-06-30 | M17: 50000
A18: 2 | B18: 14 | C18: 18610 | D18: E1La | E18: M02 | F18: DISPONER DEL RECURSO HUMANO PARA LA OPERACION DE LA POLITICA PUBLICA DE PARTICIPACION SOCIAL EN SALUD CON CAPACIDADES PARA EL FOMENTO Y LA GESTION DE LOS PROCESOS DE PARTICIPACION SOCIAL EN SALUD | G18: A02 | H18: DISPONER DE PERSONAL DE PLANTA IDONEO Y CAPACITADO PARA LA EJECUCION DE LA POLITICA PUBLICA DE PARTICIPACION SOCIAL EN SALUD | I18: 1 | J18: 26 | K18: 2025-01-01 | L18: 2025-12-31 | M18: 50000
A19: 2 | B19: 15 | C19: 18610 | D19: E1Lb | E19: M01 | F19: DEFINIR LOS PROGRAMAS DE FORMACION Y CAPACITACION AL PERSONAL DEL SECTOR SALUD QUE PERMITAN GENERAR CAPACIDADES PARA EL DERECHO A LA PARTICIPACION SOCIAL | G19: A01 | H19: CAPACITAR AL PERSONAL DE LA IPS EN TEMAS DE DERECHO A LA SALUD ATENCIÓN HUMANIZADA Y OTROS | I19: 1 | J19: 02 | K19: 2025-01-01 | L19: 2025-12-31 | M19: 50000
A20: 2 | B20: 16 | C20: 18610 | D20: E1Lh | E20: M01 | F20: INCORPORAR EL ENFOQUE DIFERENCIAL EN EL DESARROLLO DE LOS ESPACIOS DE PARTICIPACION EN SALUD EN LA DEFINICION E IMPLEMENTACION DE LOS PROGRAMAS DEL SECTOR SALUD | G20: A01 | H20: GENERAR CONTENIDOS Y PIEZAS DE COMUNICACION COMO VIDEOS INFOGRAFIAS BLOGS Y DEMAS CON ENFOQUE DIFERENCIAL USANDO LENGUAJE Y GRAFICAS INCLUYENTES CON RELACION A TEMAS DE SALUD | I20: 1 | J20: 25 | K20: 2025-01-01 | L20: 2025-12-31 | M20: 50000
A21: 2 | B21: 17 | C21: 18610 | D21: E2Lb | E21: M01 | F21: ESTABLECER LOS INCENTIVOS QUE PROPICIEN LA PARTICIPACION SOCIAL Y COMUNITARIA | G21: A01 | H21: SOLICITAR ESTRATEGIAS INSTITUCIONALES PARA LA ENTREGA DE INCENTIVOS COMO ESPACIOS DE RECONOCIMIENTO CAPACITACIONES PARTICIPACION A EVENTOS PUBLICOS PRESENTACION EN PACINA WEB REDES SOCIALES MICROSITIO EN PAGINA INSTITUCIONAL | I21: 1 | J21: 26 | K21: 2025-01-01 | L21: 2025-12-31 | M21: 50000
A22: 2 | B22: 18 | C22: 18610 | D22: E2Lb | E22: M02 | F22: GESTIONAR Y ESTABLECER LOS INCENTIVOS QUE PROPICIEN LA PARTICIPACION SOCIAL Y COMUNITARIA | G22: A02 | H22: REALIZAR RECONOCIMIENTO DURANTE ACTOS PUBLICOS CARNETIZACION MENCIONES RECONOCIMIENTOS ESCRITOS MATERIAL POP U OTROS QUE SE PUEDA PERMITIR LA ESE A MIEMBROS DE LA ASOCIACION DE USUARIOS DE LA IPS | I22: 1 | J22: 04 | K22: 2025-01-01 | L22: 2025-12-31 | M22: 50000
A23: 2 | B23: 19 | C23: 18610 | D23: E2Lc | E23: M01 | F23: IMPULSAR Y PROMOCIONAR LAS INICIATIVAS DEL USO Y APROPIACION DE LAS TECNOLOGIAS DE INFORMACION Y LAS COMUNICACIONES EN LA ASOCIACION DE USUARIOS | G23: A01 | H23: APROPIAR E INCORPORAR A LA ASOCIACION DE USUARIOS DE LA IPS SOBRE USO DE LAS TICS PARA DIFUSION DE INFORMACION EN COMPAÑIA DEL EQUIPO DE SISTEMAS Y PUBLICIDAD | I23: 1 | J23: 04 | K23: 2025-01-01 | L23: 2025-12-31 | M23: 50000
A24: 2 | B24: 20 | C24: 18610 | D24: E2Ld | E24: M01 | F24: FORTALECER LAS ESTRATEGIAS DE INFORMACION Y COMUNICACIÓN | G24: A01 | H24: ESTABLECER ESTRATEGIAS DE COMUNICACION E INFORMACION QUE INCLUYA LA APLICABILIDAD DE GENERACION DE CONTENIDO AUDIOVISUAL ABARCANDO TEMAS COMO LAS EXPERIENCIAS EXITOSAS DE LOS USUARIOS BUENAS PRACTICAS DE LOS PROFESIONALES DE SALUD Y RESPECTIVA PUBLICACIÓN EN LAS PAGINAS WEB Y DE FACEBOOK | I24: 1 | J24: 25 | K24: 2025-01-01 | L24: 2025-12-31 | M24: 50000
A25: 2 | B25: 21 | C25: 18610 | D25: E3La | E25: M01 | F25: DEFINIR E IMPLEMENTAR LAS ESTRATEGIAS DE INCIDENCIA Y FORMACION PARA FORTALECER LA SALUD PUBLICA EN CONCERTACION CON LAS COMUNIDADES | G25: A01 | H25: GENERAR ESPACIOS DE APRENDIZAJE Y CAPACITACION ORIENTADOS A PROMOVER LOS PROGRAMAS DE PYP DE LA SALUD EN LOS DIVERSOS ESPACIOS QUE PERMITE LA IPS | I25: 1 | J25: 25 | K25: 2025-01-01 | L25: 2025-12-31 | M25: 50000
A26: 2 | B26: 22 | C26: 18610 | D26: E3Lb | E26: M01 | F26: DISEÑAR UNA ESTRATEGIA DE COMUNICACION E INFORMACION PARA LA PROMOCION Y SOCIALIZACION DE UNA CULTURA DE BIENESTAR Y SALUD CON PERSPECTIVA COMUNITARIA | G26: A01 | H26: EDUCAR AL USUARIO MEDIANTE LA DIFUSION DE INFORMACION DE RELEVANCIA MEDIANTE DIVERSOS CANALES DE COMUNICACIÓN HABILITADOS EN LA ESE | I26: 4 | J26: 25 | K26: 2025-01-01 | L26: 2025-12-31 | M26: 50000
A27: 2 | B27: 23 | C27: 18610 | D27: E4Lb | E27: M01 | F27: MEJORAR EL ACCESO A LA INFORMACIÓN POR PARTE DE LA CIUDADANIA A TRAVES DE LA AMPLIACION DE CANALES DE COMUNICACION POR PARTE DE LAS INSTITUCIONES | G27: A01 | H27: GENERAR CONTENIDOS INFORMATIVOS QUE CONTENGAN LENGUAJE CLARO Y ASERTIVO QUE PERMITA LA COMPRESION DE LAS NOTICIAS INFORMES BOLETINES Y CONOCIMIENTOS EN SALUD A LA POBLACION GENERAL | I27: 1 | J27: 25 | K27: 2025-01-01 | L27: 2025-12-31 | M27: 50000
A28: 2 | B28: 24 | C28: 18610 | D28: E5Ld | E28: M01 | F28: FORTALECER LOS ESCENARIOS PARA LA PARTICIPACION EN LA DECISION | G28: A01 | H28: REALIZAR INFORMES DETALLADOS CON ANALISIS Y ACCIONES DE MEJORA A SITUACIONES REFERIDAS POR LOS USUARIOS A PARTIR DE LAS PQRS RECIBIDAS POR LOS DIFERENTES MEDIOS DE PARTICIPACION SOCIAL CON LOS QUE CUENTA LA IPS | I28: 1 | J28: 26 | K28: 2025-01-01 | L28: 2025-12-31 | M28: 50000
A29: 2 | B29: 25 | C29: 18029 | D29: E1La | E29: M01 | F29: GESTIONAR LOS RECURSOS FINANCIEROS NECESARIOS EN EL PRESUPUESTOS ORIENTADOS A FORTALECER LAS ESTRUCTURAS ADMINISTRATIVAS Y EL RECURSO HUMANO DEDICADO AL FOMENTO Y GESTION DE LOS PROCESOS DE PARTICIPACION Y EN EL DESARROLLO DE LA POLITICA DE PARTICIPACION SOCIAL EN SALUD | G29: A01 | H29: PRESENTAR AL AREA ADMINISTRATIVA UN PRESUPUESTO QUE PERMITA DESARROLLAR ADECUADAMENTE LOS ESPACIOS PARTICIPATIVOS QUE SE DEFINAN EN LA PPSS | I29: 1 | J29: 26 | K29: 2025-01-01 | L29: 2025-06-30 | M29: 50000
A30: 2 | B30: 26 | C30: 18029 | D30: E1La | E30: M02 | F30: DISPONER DEL RECURSO HUMANO PARA LA OPERACION DE LA POLITICA PUBLICA DE PARTICIPACION SOCIAL EN SALUD CON CAPACIDADES PARA EL FOMENTO Y LA GESTION DE LOS PROCESOS DE PARTICIPACION SOCIAL EN SALUD | G30: A02 | H30: DISPONER DE PERSONAL DE PLANTA IDONEO Y CAPACITADO PARA LA EJECUCION DE LA POLITICA PUBLICA DE PARTICIPACION SOCIAL EN SALUD | I30: 1 | J30: 26 | K30: 2025-01-01 | L30: 2025-12-31 | M30: 50000
A31: 2 | B31: 27 | C31: 18029 | D31: E1Lb | E31: M01 | F31: DEFINIR LOS PROGRAMAS DE FORMACION Y CAPACITACION AL PERSONAL DEL SECTOR SALUD QUE PERMITAN GENERAR CAPACIDADES PARA EL DERECHO A LA PARTICIPACION SOCIAL | G31: A01 | H31: CAPACITAR AL PERSONAL DE LA IPS EN TEMAS DE DERECHO A LA SALUD ATENCIÓN HUMANIZADA Y OTROS | I31: 1 | J31: 02 | K31: 2025-01-01 | L31: 2025-12-31 | M31: 50000
A32: 2 | B32: 28 | C32: 18029 | D32: E1Lh | E32: M01 | F32: INCORPORAR EL ENFOQUE DIFERENCIAL EN EL DESARROLLO DE LOS ESPACIOS DE PARTICIPACION EN SALUD EN LA DEFINICION E IMPLEMENTACION DE LOS PROGRAMAS DEL SECTOR SALUD | G32: A01 | H32: GENERAR CONTENIDOS Y PIEZAS DE COMUNICACION COMO VIDEOS INFOGRAFIAS BLOGS Y DEMAS CON ENFOQUE DIFERENCIAL USANDO LENGUAJE Y GRAFICAS INCLUYENTES CON RELACION A TEMAS DE SALUD | I32: 1 | J32: 25 | K32: 2025-01-01 | L32: 2025-12-31 | M32: 50000
A33: 2 | B33: 29 | C33: 18029 | D33: E2Lb | E33: M01 | F33: ESTABLECER LOS INCENTIVOS QUE PROPICIEN LA PARTICIPACION SOCIAL Y COMUNITARIA | G33: A01 | H33: SOLICITAR ESTRATEGIAS INSTITUCIONALES PARA LA ENTREGA DE INCENTIVOS COMO ESPACIOS DE RECONOCIMIENTO CAPACITACIONES PARTICIPACION A EVENTOS PUBLICOS PRESENTACION EN PACINA WEB REDES SOCIALES MICROSITIO EN PAGINA INSTITUCIONAL | I33: 1 | J33: 26 | K33: 2025-01-01 | L33: 2025-12-31 | M33: 50000
A34: 2 | B34: 30 | C34: 18029 | D34: E2Lb | E34: M02 | F34: GESTIONAR Y ESTABLECER LOS INCENTIVOS QUE PROPICIEN LA PARTICIPACION SOCIAL Y COMUNITARIA | G34: A02 | H34: REALIZAR RECONOCIMIENTO DURANTE ACTOS PUBLICOS CARNETIZACION MENCIONES RECONOCIMIENTOS ESCRITOS MATERIAL POPU OTROS QUE SE PUEDA PERMITIR LA ESE A MIEMBROS DE LA ASOCIACION DE USUARIOS DE LA IPS | I34: 1 | J34: 04 | K34: 2025-01-01 | L34: 2025-12-31 | M34: 50000
A35: 2 | B35: 31 | C35: 18029 | D35: E2Lc | E35: M01 | F35: IMPULSAR Y PROMOCIONAR LAS INICIATIVAS DEL USO Y APROPIACION DE LAS TECNOLOGIAS DE INFORMACION Y LAS COMUNICACIONES EN LA ASOCIACION DE USUARIOS | G35: A01 | H35: APROPIAR E INCORPORAR A LA ASOCIACION DE USUARIOS DE LA IPS SOBRE USO DE LAS TICS PARA DIFUSION DE INFORMACION EN COMPAÑIA DEL EQUIPO DE SISTEMAS Y PUBLICIDAD | I35: 1 | J35: 04 | K35: 2025-01-01 | L35: 2025-12-31 | M35: 50000
A36: 2 | B36: 32 | C36: 18029 | D36: E2Ld | E36: M01 | F36: FORTALECER LAS ESTRATEGIAS DE INFORMACION Y COMUNICACIÓN | G36: A01 | H36: ESTABLECER ESTRATEGIAS DE COMUNICACION E INFORMACION QUE INCLUYA LA APLICABILIDAD DE GENERACION DE CONTENIDO AUDIOVISUAL ABARCANDO TEMAS COMO LAS EXPERIENCIAS EXITOSAS DE LOS USUARIOS BUENAS PRACTICAS DE LOS PROFESIONALES DE SALUD Y RESPECTIVA PUBLICACIÓN EN LAS PAGINAS WEB Y DE FACEBOOK | I36: 1 | J36: 25 | K36: 2025-01-01 | L36: 2025-12-31 | M36: 50000
A37: 2 | B37: 33 | C37: 18029 | D37: E3La | E37: M01 | F37: DEFINIR E IMPLEMENTAR LAS ESTRATEGIAS DE INCIDENCIA Y FORMACION PARA FORTALECER LA SALUD PUBLICA EN CONCERTACION CON LAS COMUNIDADES | G37: A01 | H37: GENERAR ESPACIOS DE APRENDIZAJE Y CAPACITACION ORIENTADOS A PROMOVER LOS PROGRAMAS DE PYP DE LA SALUD EN LOS DIVERSOS ESPACIOS QUE PERMITE LA IPS | I37: 1 | J37: 25 | K37: 2025-01-01 | L37: 2025-12-31 | M37: 50000
A38: 2 | B38: 34 | C38: 18029 | D38: E3Lb | E38: M01 | F38: DISEÑAR UNA ESTRATEGIA DE COMUNICACION E INFORMACION PARA LA PROMOCION Y SOCIALIZACION DE UNA CULTURA DE BIENESTAR Y SALUD CON PERSPECTIVA COMUNITARIA | G38: A01 | H38: EDUCAR AL USUARIO MEDIANTE LA DIFUSION DE INFORMACION DE RELEVANCIA MEDIANTE DIVERSOS CANALES DE COMUNICACIÓN HABILITADOS EN LA ESE | I38: 4 | J38: 25 | K38: 2025-01-01 | L38: 2025-12-31 | M38: 50000
A39: 2 | B39: 35 | C39: 18029 | D39: E4Lb | E39: M01 | F39: MEJORAR EL ACCESO A LA INFORMACIÓN POR PARTE DE LA CIUDADANIA A TRAVES DE LA AMPLIACION DE CANALES DE COMUNICACION POR PARTE DE LAS INSTITUCIONES | G39: A01 | H39: GENERAR CONTENIDOS INFORMATIVOS QUE CONTENGAN LENGUAJE CLARO Y ASERTIVO QUE PERMITA LA COMPRESION DE LAS NOTICIAS INFORMES BOLETINES Y CONOCIMIENTOS EN SALUD A LA POBLACION GENERAL | I39: 1 | J39: 25 | K39: 2025-01-01 | L39: 2025-12-31 | M39: 50000
A40: 2 | B40: 36 | C40: 18029 | D40: E5Ld | E40: M01 | F40: FORTALECER LOS ESCENARIOS PARA LA PARTICIPACION EN LA DECISION | G40: A01 | H40: REALIZAR INFORMES DETALLADOS CON ANALISIS Y ACCIONES DE MEJORA A SITUACIONES REFERIDAS POR LOS USUARIOS A PARTIR DE LAS PQRS RECIBIDAS POR LOS DIFERENTES MEDIOS DE PARTICIPACION SOCIAL CON LOS QUE CUENTA LA IPS | I40: 1 | J40: 26 | K40: 2025-01-01 | L40: 2025-12-31 | M40: 50000
...

Sheet SEGUIMIENTO
A1: Tipo de Registro | B1: Tipo Identificación: DE/DI/MU/NI | C1: Número de Identificación: Divipola/Nit sin dígito de verificación | D1: Inicio de vigencia: xxxx-01-01 | E1: Cierre de vigencia: xxxx-12-31 | F1: Número de filas del archivo
A2: 1 | B2: =IF('Politica de Participación Socia'!B2=0,"",'Politica de Participación Socia'!B2) -> NI | C2: =IF('Politica de Participación Socia'!C2=0,"",'Politica de Participación Socia'!C2) -> 900211477 | D2: =IF('Politica de Participación Socia'!D2=0,"",'Politica de Participación Socia'!D2) -> 2025-0101 | E2: =IF('Politica de Participación Socia'!E2=0,"",'Politica de Participación Socia'!E2) -> 46022 | F2: =IF('Politica de Participación Socia'!F2=0,"",'Politica de Participación Socia'!F2) -> 48
A3: TIPO DE REGISTRO | B3: CONSECUTIVO DE REGISTRO | C3: CODIGO DEL TERRITORIO DE REFERENCIA DE APLICACION DEL PLAN DE ACCION | D3: CODIGO DE LA LINEA DE ACCION POR EJE ESTRATEGICO | E3: CONSECUTIVO DE LA META DE LA LINEA DE ACCION | F3: CONSECUTIVO DE LA ACTIVIDAD DE LA META | G3: RESULTADO DE LA ACTIVIDAD | H3: CODIGO DE LA POBLACION OBJETIVO INTERVENIDA | I3: TOTAL POBLACION OBJETIVO INTERVENIDA | J3: RECURSOS EJECUTADOS A LA FECHA DE CORTE | K3: CODIGO DE LA FUENTE DE LOS RECURSOS | L3: LINK DIRECCION ELECTRONICA CON EVIDENCIAS DE LA EJECUCION | M3: DESCRIPCION DEL MEDIO DE VERIFICACION
A4: Todos los registros son tipo 2 | B4: No. Consecutivo, inicia en 1 | C4: Divipola del municipio o distrito donde se aplica este plan de acción. En todas las variables comunes (resaltadas en amarillo) la información diligenciada en la programación se traslada automáticamente al archivo de seguimiento. | D4: Elegir de la lista desplegable la línea de acción programada | E4: MXX, donde XX es el consecutivo de la meta dentro de la línea de acción. Ejemplo: M01 | F4: Axx. Donde xx es el consecutivo de la actividad dentro de la meta. Ejemplo: A01 | G4: Número de veces que se ejecutó la actividad programada | H4: El código de la población objetivo debe ser el mismo que se designó en la programación | I4: Número de personas que fueron impactadas con la actividad | J4: Recursos económicos ejecutados de acuerdo a lo programado. | K4: Elegir de la lista desplegable el código del origen del recurso económico invertido | L4: Dirección electrónica de la página web de a entidad donde se aloja la evidencia. El color naranja desaparece cuando se diligencia el campo de forma correcta: sin utilizar no aplica y con más de 20 caracteres | M4: Inidcar cuál es la evidencia de la ejecución de la actividad que se cargó en el link El color naranja desaparece cuando se diligencia el campo de forma correcta: sin utilizar no aplica y con más de 20 caracteres
A86: =IF('Politica de Participación Socia'!A57=0,"",'Politica de Participación Socia'!A57) | B86: =IF('Politica de Participación Socia'!B57=0,"",'Politica de Participación Socia'!B57) | C86: =IF('Politica de Participación Socia'!C57=0,"",'Politica de Participación Socia'!C57) | D86: =IF('Politica de Participación Socia'!D57=0,"",'Politica de Participación Socia'!D57) | E86: =IF('Politica de Participación Socia'!E57=0,"",'Politica de Participación Socia'!E57) | F86: =IF('Politica de Participación Socia'!G57=0,"",'Politica de Participación Socia'!G57) | H86: =IF('Politica de Participación Socia'!J57=0,"",'Politica de Participación Socia'!J57)
A87: =IF('Politica de Participación Socia'!A58=0,"",'Politica de Participación Socia'!A58) | B87: =IF('Politica de Participación Socia'!B58=0,"",'Politica de Participación Socia'!B58) | C87: =IF('Politica de Participación Socia'!C58=0,"",'Politica de Participación Socia'!C58) | D87: =IF('Politica de Participación Socia'!D58=0,"",'Politica de Participación Socia'!D58) | E87: =IF('Politica de Participación Socia'!E58=0,"",'Politica de Participación Socia'!E58) | F87: =IF('Politica de Participación Socia'!G58=0,"",'Politica de Participación Socia'!G58) | H87: =IF('Politica de Participación Socia'!J58=0,"",'Politica de Participación Socia'!J58)
A88: =IF('Politica de Participación Socia'!A59=0,"",'Politica de Participación Socia'!A59) | B88: =IF('Politica de Participación Socia'!B59=0,"",'Politica de Participación Socia'!B59) | C88: =IF('Politica de Participación Socia'!C59=0,"",'Politica de Participación Socia'!C59) | D88: =IF('Politica de Participación Socia'!D59=0,"",'Politica de Participación Socia'!D59) | E88: =IF('Politica de Participación Socia'!E59=0,"",'Politica de Participación Socia'!E59) | F88: =IF('Politica de Participación Socia'!G59=0,"",'Politica de Participación Socia'!G59) | H88: =IF('Politica de Participación Socia'!J59=0,"",'Politica de Participación Socia'!J59)
A89: =IF('Politica de Participación Socia'!A60=0,"",'Politica de Participación Socia'!A60) | B89: =IF('Politica de Participación Socia'!B60=0,"",'Politica de Participación Socia'!B60) | C89: =IF('Politica de Participación Socia'!C60=0,"",'Politica de Participación Socia'!C60) | D89: =IF('Politica de Participación Socia'!D60=0,"",'Politica de Participación Socia'!D60) | E89: =IF('Politica de Participación Socia'!E60=0,"",'Politica de Participación Socia'!E60) | F89: =IF('Politica de Participación Socia'!G60=0,"",'Politica de Participación Socia'!G60) | H89: =IF('Politica de Participación Socia'!J60=0,"",'Politica de Participación Socia'!J60)
A90: =IF('Politica de Participación Socia'!A61=0,"",'Politica de Participación Socia'!A61) | B90: =IF('Politica de Participación Socia'!B61=0,"",'Politica de Participación Socia'!B61) | C90: =IF('Politica de Participación Socia'!C61=0,"",'Politica de Participación Socia'!C61) | D90: =IF('Politica de Participación Socia'!D61=0,"",'Politica de Participación Socia'!D61) | E90: =IF('Politica de Participación Socia'!E61=0,"",'Politica de Participación Socia'!E61) | F90: =IF('Politica de Participación Socia'!G61=0,"",'Politica de Participación Socia'!G61) | H90: =IF('Politica de Participación Socia'!J61=0,"",'Politica de Participación Socia'!J61)
A91: =IF('Politica de Participación Socia'!A62=0,"",'Politica de Participación Socia'!A62) | B91: =IF('Politica de Participación Socia'!B62=0,"",'Politica de Participación Socia'!B62) | C91: =IF('Politica de Participación Socia'!C62=0,"",'Politica de Participación Socia'!C62) | D91: =IF('Politica de Participación Socia'!D62=0,"",'Politica de Participación Socia'!D62) | E91: =IF('Politica de Participación Socia'!E62=0,"",'Politica de Participación Socia'!E62) | F91: =IF('Politica de Participación Socia'!G62=0,"",'Politica de Participación Socia'!G62) | H91: =IF('Politica de Participación Socia'!J62=0,"",'Politica de Participación Socia'!J62)
A92: =IF('Politica de Participación Socia'!A63=0,"",'Politica de Participación Socia'!A63) | B92: =IF('Politica de Participación Socia'!B63=0,"",'Politica de Participación Socia'!B63) | C92: =IF('Politica de Participación Socia'!C63=0,"",'Politica de Participación Socia'!C63) | D92: =IF('Politica de Participación Socia'!D63=0,"",'Politica de Participación Socia'!D63) | E92: =IF('Politica de Participación Socia'!E63=0,"",'Politica de Participación Socia'!E63) | F92: =IF('Politica de Participación Socia'!G63=0,"",'Politica de Participación Socia'!G63) | H92: =IF('Politica de Participación Socia'!J63=0,"",'Politica de Participación Socia'!J63)
A93: =IF('Politica de Participación Socia'!A64=0,"",'Politica de Participación Socia'!A64) | B93: =IF('Politica de Participación Socia'!B64=0,"",'Politica de Participación Socia'!B64) | C93: =IF('Politica de Participación Socia'!C64=0,"",'Politica de Participación Socia'!C64) | D93: =IF('Politica de Participación Socia'!D64=0,"",'Politica de Participación Socia'!D64) | E93: =IF('Politica de Participación Socia'!E64=0,"",'Politica de Participación Socia'!E64) | F93: =IF('Politica de Participación Socia'!G64=0,"",'Politica de Participación Socia'!G64) | H93: =IF('Politica de Participación Socia'!J64=0,"",'Politica de Participación Socia'!J64)
A94: =IF('Politica de Participación Socia'!A65=0,"",'Politica de Participación Socia'!A65) | B94: =IF('Politica de Participación Socia'!B65=0,"",'Politica de Participación Socia'!B65) | C94: =IF('Politica de Participación Socia'!C65=0,"",'Politica de Participación Socia'!C65) | D94: =IF('Politica de Participación Socia'!D65=0,"",'Politica de Participación Socia'!D65) | E94: =IF('Politica de Participación Socia'!E65=0,"",'Politica de Participación Socia'!E65) | F94: =IF('Politica de Participación Socia'!G65=0,"",'Politica de Participación Socia'!G65) | H94: =IF('Politica de Participación Socia'!J65=0,"",'Politica de Participación Socia'!J65)
A95: =IF('Politica de Participación Socia'!A66=0,"",'Politica de Participación Socia'!A66) | B95: =IF('Politica de Participación Socia'!B66=0,"",'Politica de Participación Socia'!B66) | C95: =IF('Politica de Participación Socia'!C66=0,"",'Politica de Participación Socia'!C66) | D95: =IF('Politica de Participación Socia'!D66=0,"",'Politica de Participación Socia'!D66) | E95: =IF('Politica de Participación Socia'!E66=0,"",'Politica de Participación Socia'!E66) | F95: =IF('Politica de Participación Socia'!G66=0,"",'Politica de Participación Socia'!G66) | H95: =IF('Politica de Participación Socia'!J66=0,"",'Politica de Participación Socia'!J66)
A96: =IF('Politica de Participación Socia'!A67=0,"",'Politica de Participación Socia'!A67) | B96: =IF('Politica de Participación Socia'!B67=0,"",'Politica de Participación Socia'!B67) | C96: =IF('Politica de Participación Socia'!C67=0,"",'Politica de Participación Socia'!C67) | D96: =IF('Politica de Participación Socia'!D67=0,"",'Politica de Participación Socia'!D67) | E96: =IF('Politica de Participación Socia'!E67=0,"",'Politica de Participación Socia'!E67) | F96: =IF('Politica de Participación Socia'!G67=0,"",'Politica de Participación Socia'!G67) | H96: =IF('Politica de Participación Socia'!J67=0,"",'Politica de Participación Socia'!J67)
A97: =IF('Politica de Participación Socia'!A68=0,"",'Politica de Participación Socia'!A68) | B97: =IF('Politica de Participación Socia'!B68=0,"",'Politica de Participación Socia'!B68) | C97: =IF('Politica de Participación Socia'!C68=0,"",'Politica de Participación Socia'!C68) | D97: =IF('Politica de Participación Socia'!D68=0,"",'Politica de Participación Socia'!D68) | E97: =IF('Politica de Participación Socia'!E68=0,"",'Politica de Participación Socia'!E68) | F97: =IF('Politica de Participación Socia'!G68=0,"",'Politica de Participación Socia'!G68) | H97: =IF('Politica de Participación Socia'!J68=0,"",'Politica de Participación Socia'!J68)
... A7261: =IF('Politica de Participación Socia'!A7232=0,"",'Politica de Participación Socia'!A7232) | B7261: =IF('Politica de Participación Socia'!B7232=0,"",'Politica de Participación Socia'!B7232) | C7261: =IF('Politica de Participación Socia'!C7232=0,"",'Politica de Participación Socia'!C7232) | D7261: =IF('Politica de Participación Socia'!D7232=0,"",'Politica de Participación Socia'!D7232) | E7261: =IF('Politica de Participación Socia'!E7232=0,"",'Politica de Participación Socia'!E7232) | F7261: =IF('Politica de Participación Socia'!G7232=0,"",'Politica de Participación Socia'!G7232) | H7261: =IF('Politica de Participación Socia'!J7232=0,"",'Politica de Participación Socia'!J7232)
A7262: =IF('Politica de Participación Socia'!A7233=0,"",'Politica de Participación Socia'!A7233) | B7262: =IF('Politica de Participación Socia'!B7233=0,"",'Politica de Participación Socia'!B7233) | C7262: =IF('Politica de Participación Socia'!C7233=0,"",'Politica de Participación Socia'!C7233) | D7262: =IF('Politica de Participación Socia'!D7233=0,"",'Politica de Participación Socia'!D7233) | E7262: =IF('Politica de Participación Socia'!E7233=0,"",'Politica de Participación Socia'!E7233) | F7262: =IF('Politica de Participación Socia'!G7233=0,"",'Politica de Participación Socia'!G7233) | H7262: =IF('Politica de Participación Socia'!J7233=0,"",'Politica de Participación Socia'!J7233) | K7262: 08
A7263: =IF('Politica de Participación Socia'!A7234=0,"",'Politica de Participación Socia'!A7234) | B7263: =IF('Politica de Participación Socia'!B7234=0,"",'Politica de Participación Socia'!B7234) | C7263: =IF('Politica de Participación Socia'!C7234=0,"",'Politica de Participación Socia'!C7234) | D7263: =IF('Politica de Participación Socia'!D7234=0,"",'Politica de Participación Socia'!D7234) | E7263: =IF('Politica de Participación Socia'!E7234=0,"",'Politica de Participación Socia'!E7234) | F7263: =IF('Politica de Participación Socia'!G7234=0,"",'Politica de Participación Socia'!G7234) | H7263: =IF('Politica de Participación Socia'!J7234=0,"",'Politica de Participación Socia'!J7234)
A7264: =IF('Politica de Participación Socia'!A7235=0,"",'Politica de Participación Socia'!A7235) | B7264: =IF('Politica de Participación Socia'!B7235=0,"",'Politica de Participación Socia'!B7235) | C7264: =IF('Politica de Participación Socia'!C7235=0,"",'Politica de Participación Socia'!C7235) | D7264: =IF('Politica de Participación Socia'!D7235=0,"",'Politica de Participación Socia'!D7235) | E7264: =IF('Politica de Participación Socia'!E7235=0,"",'Politica de Participación Socia'!E7235) | F7264: =IF('Politica de Participación Socia'!G7235=0,"",'Politica de Participación Socia'!G7235) | H7264: =IF('Politica de Participación Socia'!J7235=0,"",'Politica de Participación Socia'!J7235)
A7265: =IF('Politica de Participación Socia'!A7236=0,"",'Politica de Participación Socia'!A7236) | B7265: =IF('Politica de Participación Socia'!B7236=0,"",'Politica de Participación Socia'!B7236) | C7265: =IF('Politica de Participación Socia'!C7236=0,"",'Politica de Participación Socia'!C7236) | D7265: =IF('Politica de Participación Socia'!D7236=0,"",'Politica de Participación Socia'!D7236) | E7265: =IF('Politica de Participación Socia'!E7236=0,"",'Politica de Participación Socia'!E7236) | F7265: =IF('Politica de Participación Socia'!G7236=0,"",'Politica de Participación Socia'!G7236) | H7265: =IF('Politica de Participación Socia'!J7236=0,"",'Politica de Participación Socia'!J7236)
A7266: =IF('Politica de Participación Socia'!A7237=0,"",'Politica de Participación Socia'!A7237) | B7266: =IF('Politica de Participación Socia'!B7237=0,"",'Politica de Participación Socia'!B7237) | C7266: =IF('Politica de Participación Socia'!C7237=0,"",'Politica de Participación Socia'!C7237) | D7266: =IF('Politica de Participación Socia'!D7237=0,"",'Politica de Participación Socia'!D7237) | E7266: =IF('Politica de Participación Socia'!E7237=0,"",'Politica de Participación Socia'!E7237) | F7266: =IF('Politica de Participación Socia'!G7237=0,"",'Politica de Participación Socia'!G7237) | H7266: =IF('Politica de Participación Socia'!J7237=0,"",'Politica de Participación Socia'!J7237)
A7267: =IF('Politica de Participación Socia'!A7238=0,"",'Politica de Participación Socia'!A7238) | B7267: =IF('Politica de Participación Socia'!B7238=0,"",'Politica de Participación Socia'!B7238) | C7267: =IF('Politica de Participación Socia'!C7238=0,"",'Politica de Participación Socia'!C7238) | D7267: =IF('Politica de Participación Socia'!D7238=0,"",'Politica de Participación Socia'!D7238) | E7267: =IF('Politica de Participación Socia'!E7238=0,"",'Politica de Participación Socia'!E7238) | F7267: =IF('Politica de Participación Socia'!G7238=0,"",'Politica de Participación Socia'!G7238) | H7267: =IF('Politica de Participación Socia'!J7238=0,"",'Politica de Participación Socia'!J7238)
A7268: =IF('Politica de Participación Socia'!A7239=0,"",'Politica de Participación Socia'!A7239) | B7268: =IF('Politica de Participación Socia'!B7239=0,"",'Politica de Participación Socia'!B7239) | C7268: =IF('Politica de Participación Socia'!C7239=0,"",'Politica de Participación Socia'!C7239) | D7268: =IF('Politica de Participación Socia'!D7239=0,"",'Politica de Participación Socia'!D7239) | E7268: =IF('Politica de Participación Socia'!E7239=0,"",'Politica de Participación Socia'!E7239) | F7268: =IF('Politica de Participación Socia'!G7239=0,"",'Politica de Participación Socia'!G7239) | H7268: =IF('Politica de Participación Socia'!J7239=0,"",'Politica de Participación Socia'!J7239)
A7269: =IF('Politica de Participación Socia'!A7240=0,"",'Politica de Participación Socia'!A7240) | B7269: =IF('Politica de Participación Socia'!B7240=0,"",'Politica de Participación Socia'!B7240) | C7269: =IF('Politica de Participación Socia'!C7240=0,"",'Politica de Participación Socia'!C7240) | D7269: =IF('Politica de Participación Socia'!D7240=0,"",'Politica de Participación Socia'!D7240) | E7269: =IF('Politica de Participación Socia'!E7240=0,"",'Politica de Participación Socia'!E7240) | F7269: =IF('Politica de Participación Socia'!G7240=0,"",'Politica de Participación Socia'!G7240) | H7269: =IF('Politica de Participación Socia'!J7240=0,"",'Politica de Participación Socia'!J7240)
A7270: =IF('Politica de Participación Socia'!A7241=0,"",'Politica de Participación Socia'!A7241) | B7270: =IF('Politica de Participación Socia'!B7241=0,"",'Politica de Participación Socia'!B7241) | C7270: =IF('Politica de Participación Socia'!C7241=0,"",'Politica de Participación Socia'!C7241) | D7270: =IF('Politica de Participación Socia'!D7241=0,"",'Politica de Participación Socia'!D7241) | E7270: =IF('Politica de Participación Socia'!E7241=0,"",'Politica de Participación Socia'!E7241) | F7270: =IF('Politica de Participación Socia'!G7241=0,"",'Politica de Participación Socia'!G7241) | H7270: =IF('Politica de Participación Socia'!J7241=0,"",'Politica de Participación Socia'!J7241)
A7271: =IF('Politica de Participación Socia'!A7242=0,"",'Politica de Participación Socia'!A7242) | B7271: =IF('Politica de Participación Socia'!B7242=0,"",'Politica de Participación Socia'!B7242) | C7271: =IF('Politica de Participación Socia'!C7242=0,"",'Politica de Participación Socia'!C7242) | D7271: =IF('Politica de Participación Socia'!D7242=0,"",'Politica de Participación Socia'!D7242) | E7271: =IF('Politica de Participación Socia'!E7242=0,"",'Politica de Participación Socia'!E7242) | F7271: =IF('Politica de Participación Socia'!G7242=0,"",'Politica de Participación Socia'!G7242) | H7271: =IF('Politica de Participación Socia'!J7242=0,"",'Politica de Participación Socia'!J7242)
A7272: =IF('Politica de Participación Socia'!A7243=0,"",'Politica de Participación Socia'!A7243) | B7272: =IF('Politica de Participación Socia'!B7243=0,"",'Politica de Participación Socia'!B7243) | C7272: =IF('Politica de Participación Socia'!C7243=0,"",'Politica de Participación Socia'!C7243) | D7272: =IF('Politica de Participación Socia'!D7243=0,"",'Politica de Participación Socia'!D7243) | E7272: =IF('Politica de Participación Socia'!E7243=0,"",'Politica de Participación Socia'!E7243) | F7272: =IF('Politica de Participación Socia'!G7243=0,"",'Politica de Participación Socia'!G7243) | H7272: =IF('Politica de Participación Socia'!J7243=0,"",'Politica de Participación Socia'!J7243)
A7273: =IF('Politica de Participación Socia'!A7244=0,"",'Politica de Participación Socia'!A7244) | B7273: =IF('Politica de Participación Socia'!B7244=0,"",'Politica de Participación Socia'!B7244) | C7273: =IF('Politica de Participación Socia'!C7244=0,"",'Politica de Participación Socia'!C7244) | D7273: =IF('Politica de Participación Socia'!D7244=0,"",'Politica de Participación Socia'!D7244) | E7273: =IF('Politica de Participación Socia'!E7244=0,"",'Politica de Participación Socia'!E7244) | F7273: =IF('Politica de Participación Socia'!G7244=0,"",'Politica de Participación Socia'!G7244) | H7273: =IF('Politica de Participación Socia'!J7244=0,"",'Politica de Participación Socia'!J7244)
A7274: =IF('Politica de Participación Socia'!A7245=0,"",'Politica de Participación Socia'!A7245) | B7274: =IF('Politica de Participación Socia'!B7245=0,"",'Politica de Participación Socia'!B7245) | C7274: =IF('Politica de Participación Socia'!C7245=0,"",'Politica de Participación Socia'!C7245) | D7274: =IF('Politica de Participación Socia'!D7245=0,"",'Politica de Participación Socia'!D7245) | E7274: =IF('Politica de Participación Socia'!E7245=0,"",'Politica de Participación Socia'!E7245) | F7274: =IF('Politica de Participación Socia'!G7245=0,"",'Politica de Participación Socia'!G7245) | H7274: =IF('Politica de Participación Socia'!J7245=0,"",'Politica de Participación Socia'!J7245)
... A8112: =IF('Politica de Participación Socia'!A8083=0,"",'Politica de Participación Socia'!A8083) | B8112: =IF('Politica de Participación Socia'!B8083=0,"",'Politica de Participación Socia'!B8083) | C8112: =IF('Politica de Participación Socia'!C8083=0,"",'Politica de Participación Socia'!C8083) | D8112: =IF('Politica de Participación Socia'!D8083=0,"",'Politica de Participación Socia'!D8083) | E8112: =IF('Politica de Participación Socia'!E8083=0,"",'Politica de Participación Socia'!E8083) | F8112: =IF('Politica de Participación Socia'!G8083=0,"",'Politica de Participación Socia'!G8083) | H8112: =IF('Politica de Participación Socia'!J8083=0,"",'Politica de Participación Socia'!J8083)

Sheet DIVIPOLA
A1: 05 | B1: ANTIOQUIA
A2: 08 | B2: ATLÁNTICO
A3: 13 | B3: BOLÍVAR
A4: 15 | B4: BOYACÁ
A5: 17 | B5: CALDAS
A6: 18 | B6: CAQUETÁ
A7: 19 | B7: CAUCA
A8: 20 | B8: CESAR
A9: 23 | B9: CÓRDOBA
A10: 25 | B10: CUNDINAMARCA
A11: 27 | B11: CHOCÓ
A12: 41 | B12: HUILA
A13: 44 | B13: LA GUAJIRA
A14: 47 | B14: MAGDALENA
A15: 50 | B15: META
A16: 52 | B16: NARIÑO
... A32: 99 | B32: VICHADA
A33: 5001 | B33: MEDELLÍN
A34: 5002 | B34: ABEJORRAL
A35: 5004 | B35: ABRIAQUÍ
A36: 5021 | B36: ALEJANDRÍA
A37: 5030 | B37: AMAGÁ
A38: 5031 | B38: AMALFI
A39: 5034 | B39: ANDES
A40: 5036 | B40: ANGELÓPOLIS
A41: 5038 | B41: ANGOSTURA
A42: 5040 | B42: ANORÍ
A43: 5042 | B43: SANTA FÉ DE ANTIOQUIA
A44: 5044 | B44: ANZÁ
... A1153: 99773 | B1153: CUMARIBO

Sheet TREF EJE_LINEA
A1: E1La | B1: DESTINAR Y GESTIONAR LOS RECURSOS FINANCIEROS NECESARIOS EN LOS PRESUPUESTOS EN EL NIVEL NACIONAL Y TERRITORIAL ORIENTADOS A FORTALECER LAS ESTRUCTURAS ADMINISTRATIVAS Y EL RECURSO HUMANO DEDICADO AL FOMENTO Y GESTION DE LOS PROCESOS DE PARTICIPACION Y EN EL DESARROLLO DE LA POLITICA DE PARTICIPACION SOCIAL EN SALUD
A2: E1Lb | B2: DEFINIR LOS PROGRAMAS DE FORMACION Y CAPACITACION AL PERSONAL DEL SECTOR SALUD PARA LA GENERACION DE CAPACIDADES PARA EL DERECHO A LA PARTICIPACION SOCIAL, ASI COMO, HERRAMIENTAS PEDAGOGICAS, DIDACTICAS Y TECNOLOGICAS QUE PERMITAN LA INTERVENCION DE LA COMUNIDAD EN EL SECTOR
A3: E1Lc | B3: DESARROLLAR UNA ESTRATEGIA SISTEMATICA DE ASISTENCIA TECNICA A LAS ENTIDADES TERRITORIALES PARA LA IMPLEMENTACION DE LA POLITICA DE PARTICIPACION SOCIAL EN SALUD
A4: E1Ld | B4: ESTABLECER MECANISMOS DE COFINANCIACION DE PROYECTOS DE INVERSION EN LOS DIFERENTES NIVELES DE GOBIERNO DESTINADOS A LA PROMOCION Y GESTION DE LA PARTICIPACION SOCIAL EN SALUD
A5: E1Le | B5: REALIZAR GESTIONES INTERINSTITUCIONALES PARA LA FORMACION DE LA COMUNIDAD EN PLANEACION, PRESUPUESTACION Y CONTROL SOCIAL EN SALUD
A6: E1Lf | B6: DEFINIR LOS LINEAMIENTOS PARA LAS ENTIDADES TERRITORIALES Y ENTIDADES DEL SECTOR SALUD QUE PROPENDAN POR GARANTIZAR LA PARTICIPACION EN LA DECISION EN LA GESTION DEL SECTOR SALUD EN EL MARCO DEL CUMPLIMIENTO DE LOS OBJETIVOS DE LA POLITICA DE PARTICIPACION SOCIAL EN SALUD
A7: E1Lg | B7: TRANSVERSALIZAR LOS PROCESOS Y DINAMICAS DE PARTICIPACION SOCIAL EN EL CICLO DE LAS POLITICAS PUBLICAS DEL SECTOR SALUD A NIVEL TERRITORIAL
A8: E1Lh | B8: INCORPORAR EL ENFOQUE DIFERENCIAL EN EL DESARROLLO DE LOS ESPACIOS DE PARTICIPACION EN SALUD EN LA DEFINICION E IMPLEMENTACION DE LOS PROGRAMAS DEL SECTOR SALUD
A9: E1Li | B9: REALIZAR LOS AJUSTES NORMATIVOS QUE PERMITAN LA PARTICIPACION EN LA GESTION DEL SECTOR SALUD EN LOS DIFERENTES NIVELES TERRITORIALES E INSTITUCIONALES PARA EL CUMPLIMIENTO DE LOS OBJETIVOS DE LA POLITICA DE PARTICIPACION EN EL MARCO DE LA LEY ESTATUTARIA DE SALUD
A10: E2La | B10: CREAR UNA ESTRATEGIA PEDAGOGICA PERMANENTE EN SALUD PARA CUALIFICAR A LOS CIUDADANOS EN LOS PROCESOS DE PARTICIPACION, EN LOS TEMAS DE INTERES EN SALUD Y EN EL DERECHO A LA SALUD
A11: E2Lb | B11: ESTABLECER LOS INCENTIVOS QUE PROPICIEN LA PARTICIPACION SOCIAL Y COMUNITARIA
A12: E2Lc | B12: IMPULSAR Y PROMOCIONAR LAS INICIATIVAS DEL USO Y APROPIACION DE LAS TECNOLOGIAS DE INFORMACION Y LAS COMUNICACIONES EN LAS ORGANIZACIONES SOCIALES EN SALUD
... A33: E5Ld | B33: FORTALECER LOS ESCENARIOS PARA LA PARTICIPACION EN LA DECISION

Sheet TREF POBLACION
A1: 01 | B1: TRABAJADORES SECTOR SALUD
A2: 02 | B2: TRABAJADORES ASISTENCIALES DE LA SALUD
A3: 03 | B3: COPACO
A4: 04 | B4: ASOCIACION DE USUARIOS
A5: 05 | B5: CTSSS
A6: 06 | B6: VEEDURIA
A7: 07 | B7: COMITES DE ETICA
A8: 08 | B8: COMITES DE VIGILANCIA
A9: 09 | B9: ORGANIZACIONES SOCIALES AUTONOMAS
A10: 10 | B10: RED COMUNITARIA
A11: 11 | B11: RED DE ACCIONES EN SALUD PUBLICA
A12: 12 | B12: CIUDADANIA PARTICIPANTE EN EL PIC
A13: 13 | B13: POBLACION CON DISCAPACIDAD
A14: 14 | B14: ADULTO MAYOR
A15: 15 | B15: NIÑOS/AS Y ADOLESCENTES
A16: 16 | B16: GRUPOS ETNICOS INDIGENAS
A17: 17 | B17: GRUPOS ETNICOS AFROCOLOMBIANOS
A18: 18 | B18: GRUPOS ETNICOS PALENQUEROS
A19: 19 | B19: GRUPOS ETNICOS RAIZALES
A20: 20 | B20: GRIPOS ETNICOS ROM
A21: 21 | B21: POBLACION LGBTIQ
... A26: 26 | B26: NO APLICA

Sheet TREF RECURSOS
A1: 01 | B1: RECURSOS PROPIOS DE LA ENTIDAD
A2: 02 | B2: SISTEMA GENERAL DE PARTICIPACIONES
A3: 03 | B3: PIC - GESTION SALUD PUBLICA
A4: 04 | B4: RENTAS CEDIDAS
A5: 05 | B5: TRANSFERENCIAS
A6: 06 | B6: COOPERACION INTERNACIONAL
A7: 07 | B7: CONVENIOS INTERADMINISTRATIVOS
A8: 08 | B8: DONACIONES
A9: 09 | B9: ENTIDAD PRIVADA
A10: 10 | B10: NO APLICA
